BEGIN:VCALENDAR
VERSION:2.0
PRODID:-//Kompaan Bier - ECPv6.15.18//NONSGML v1.0//EN
CALSCALE:GREGORIAN
METHOD:PUBLISH
X-ORIGINAL-URL:https://kompaanbier.nl
X-WR-CALDESC:Events for Kompaan Bier
REFRESH-INTERVAL;VALUE=DURATION:PT1H
X-Robots-Tag:noindex
X-PUBLISHED-TTL:PT1H
BEGIN:VTIMEZONE
TZID:Europe/Amsterdam
BEGIN:DAYLIGHT
TZOFFSETFROM:+0100
TZOFFSETTO:+0200
TZNAME:CEST
DTSTART:20240331T010000
END:DAYLIGHT
BEGIN:STANDARD
TZOFFSETFROM:+0200
TZOFFSETTO:+0100
TZNAME:CET
DTSTART:20241027T010000
END:STANDARD
BEGIN:DAYLIGHT
TZOFFSETFROM:+0100
TZOFFSETTO:+0200
TZNAME:CEST
DTSTART:20250330T010000
END:DAYLIGHT
BEGIN:STANDARD
TZOFFSETFROM:+0200
TZOFFSETTO:+0100
TZNAME:CET
DTSTART:20251026T010000
END:STANDARD
BEGIN:DAYLIGHT
TZOFFSETFROM:+0100
TZOFFSETTO:+0200
TZNAME:CEST
DTSTART:20260329T010000
END:DAYLIGHT
BEGIN:STANDARD
TZOFFSETFROM:+0200
TZOFFSETTO:+0100
TZNAME:CET
DTSTART:20261025T010000
END:STANDARD
BEGIN:DAYLIGHT
TZOFFSETFROM:+0100
TZOFFSETTO:+0200
TZNAME:CEST
DTSTART:20270328T010000
END:DAYLIGHT
BEGIN:STANDARD
TZOFFSETFROM:+0200
TZOFFSETTO:+0100
TZNAME:CET
DTSTART:20271031T010000
END:STANDARD
END:VTIMEZONE
BEGIN:VEVENT
DTSTART;TZID=Europe/Amsterdam:20260405T110000
DTEND;TZID=Europe/Amsterdam:20260405T160000
DTSTAMP:20260425T052547
CREATED:20250306T151120Z
LAST-MODIFIED:20260312T131358Z
UID:10003558-1775386800-1775404800@kompaanbier.nl
SUMMARY:Easter Buffet
DESCRIPTION:🐣 Easter Buffet at Kompaan Thuishaven\nSunday April 5 | 11:00 – 16:00 \nEaster\, done properly. Long tables\, full plates\, BBQ heat and kids hunting eggs while you go back for seconds. \nOn Sunday April 5\, Thuishaven turns into one big Easter feast. An extensive buffet packed with classics\, BBQ specials and desserts you definitely don’t have room for (but will take anyway). \n🥐 What’s on the table?\nFresh & generous \n\n\nFreshly baked breads & croissants \n\n\nA wide selection of meat\, fish & vegetarian toppings \n\n\nHouse-smoked salmon\, assorted cheeses\, pastrami & cured meats \n\n\nEggs every way \n\n\nSpanish omelette \n\n\nScrambled eggs \n\n\nClassic colored boiled eggs \n\n\nHot from the BBQ \n\n\nWarm ham from the grill \n\n\nSpiced merguez sausages \n\n\nFish baked in foil with hollandaise sauce \n\n\nWarm quiches with various fillings \n\n\nDesserts \n\n\nBavarois \n\n\nChocolate mousse \n\n\nTiramisu \n\n\nCheesecake \n\n\n🍹 Drinks\nCoffee or tea included.Plus Mimosas\, Micheladas and beer cocktails if you feel like turning brunch into a proper celebration. \n🎨 For the kids\n\n\nEaster egg hunt \n\n\nEgg decorating \n\n\nColoring & games \n\n\n💰 Practical info\nAdults: €29.50Kids: €16.50(includes coffee or tea) \nReservation required. Full = full.You can enjoy the buffet up to 2 hours after arrival. \nCelebrate Easter the Kompaan way — together\, generously\, and with great beer. \n👉 Book your table now.
URL:https://kompaanbier.nl/event/easter-buffet/
LOCATION:Kompaan Thuishaven & Brewery\, Saturnusstraat 55\, The Hague\, 2516AE\, Netherlands
CATEGORIES:Thuishaven
ATTACH;FMTTYPE=image/webp:https://kompaanbier.nl/wp-content/uploads/2025/03/paas-brunch-2026_BANNER-WEBSITE-3-2-05.webp
ORGANIZER;CN="Thuishaven":MAILTO:reservations.thuishaven@kompaanbier.nl
END:VEVENT
BEGIN:VEVENT
DTSTART;TZID=Europe/Amsterdam:20251219T140000
DTEND;TZID=Europe/Amsterdam:20251221T210000
DTSTAMP:20260425T052547
CREATED:20251111T135953Z
LAST-MODIFIED:20251111T141506Z
UID:10004470-1766152800-1766350800@kompaanbier.nl
SUMMARY:Kerst Fest 2025
DESCRIPTION:KOMPAAN KERST FEST ’25\nThree days of beer\, fire & festive cheer! 🎄🔥🍺\nFrom Friday December 19th to Sunday December 21st\, Kompaan Thuishaven & Brewery transforms once again into a winter wonderland full of warmth\, flavor\, and firelight.Breathe in the smoky BBQ air\, sip on glühbier and local brews from four local breweries:Crooked Spider (Wassenaar)\, Roem (Zoetermeer)\, Eurobrouwers (Schiedam)\, and of course Kompaan (The Hague)! 🍻 \n🔥 What to Expect \n\n\nWinter BBQ with pulled pork\, ribs\, burgers\, and salmon grilled over open fire \n\n\nGlühbier\, mulled wine & beercocktails by Valentine’s Distillery \n\n\nChristmas market & raffle featuring local makers and neighbours like Secrid\, offering a special Christmas deal \n\n\nSilent disco & DJs on Friday and Saturday \n\n\nFamily Day on Sunday – the brewers head home\, but their beers stay on tap!We’ll turn the brewery into a cozy winter playground with pancakes\, cotton candy\, crafts\, shuffleboard\,and a kids’ shaker workshop by Valentine’s Distillery 🎅👧🧒 \n\n\nWrap up warm\, grab your friends and family\, and celebrate the holidays the Kompaan way — with beer\, fire\, and good company. \n📅 When:Fri 19 & Sat 20 December → 14:00–00:00Sun 21 December → 13:00–21:00 \n📍 Where: Kompaan Thuishaven – Binckhorst\, The Hague🎟️ Entry: Free \n👉 Follow us on socials for the full program and BBQ menu updates!
URL:https://kompaanbier.nl/event/kerst-fest-2025/
LOCATION:Kompaan Thuishaven & Brewery\, Saturnusstraat 55\, The Hague\, 2516AE\, Netherlands
CATEGORIES:Thuishaven
ATTACH;FMTTYPE=image/jpeg:https://kompaanbier.nl/wp-content/uploads/2025/11/Kompaan_KerstFest25_OnlineBanner.jpg
END:VEVENT
BEGIN:VEVENT
DTSTART;VALUE=DATE:20251031
DTEND;VALUE=DATE:20251103
DTSTAMP:20260425T052547
CREATED:20251014T091557Z
LAST-MODIFIED:20251014T092936Z
UID:10004468-1761868800-1762127999@kompaanbier.nl
SUMMARY:🎃 Pumpkin Carving at Thuishaven & Brewery! 🎃
DESCRIPTION:🎃 Pumpkin Carving at Thuishaven & Brewery! 🎃 \nSpooky season is creeping closer!! 🎃🔪 On Friday\, October 31st\, Saturday\, November 1st\, and Sunday\, November 2nd\, we’re carving pumpkins at Thuishaven. 👻🍺 We’ll provide the tools and the pumpkins — all you need to bring is your creativity (and your courage)! \nGather your friends\, parents\, and kids — the best pumpkin wins a prize! 🏆🎃 \n👉 Reserve by Friday\, October 24th\, to guarantee your pumpkin! LIMITED AVAILABILITY! 💀🎃 \nDressing up spooky? Get a free beer on us. (NIX18) 🍻👻 \n🗓️ When: Friday\, October 31st – Sunday\, November 2nd\, starting at 13:00📍 Where: Thuishaven & Brewery💰 Entry: Free🎃 Stopping by on Halloween? Trick or treat!
URL:https://kompaanbier.nl/event/pumpkin-carving/
LOCATION:Kompaan Thuishaven & Brewery\, Saturnusstraat 55\, The Hague\, 2516AE\, Netherlands
CATEGORIES:Thuishaven
ATTACH;FMTTYPE=image/jpeg:https://kompaanbier.nl/wp-content/uploads/2025/10/Webshop_P1777050-4.jpg
END:VEVENT
BEGIN:VEVENT
DTSTART;TZID=Europe/Amsterdam:20250920T140000
DTEND;TZID=Europe/Amsterdam:20250921T000000
DTSTAMP:20260425T052547
CREATED:20250820T133045Z
LAST-MODIFIED:20250820T135109Z
UID:10004466-1758376800-1758412800@kompaanbier.nl
SUMMARY:Mussels & Malts Fest
DESCRIPTION:🔥 Mussels & Malts Fest\nSaturday September 20 | 14:00 – 00:00 | Kompaan Thuishaven \nEnd summer the way it deserves – with fire\, beer\, and beats.We’re not tiptoeing into autumn — we’re sending summer off in a blaze of glory at Mussels & Malts Fest. Join us for a full day of open fire cooking\, music\, dancing\, beer and family fun at our waterfront Thuishaven. \n🦪 Mussels over roaring fireWe’ll be cooking fresh mussels on a massive stainless steel plate set right over an open flame. Flames roaring\, beer pouring\, mussels sizzling – this is no ordinary cookout. \n🍻 Guest brewers in the spotlightWe’re handing over taps to some of our favorite local legends:→ Roem→ Haagse Broeders→ EurobrouwersCome meet the makers and taste their finest pours\, fresh and on fire. \n🔥 The BBQ FeastGreen Eggs blazing. Platters stacked.From 16:00\, we’re grilling everything from meat to vega to juicy burgers and golden fries.Before that\, snacks are available to get your appetite fired up. \n🎧 Silent Disco from 20:00Once the sun goes down\, the beats go up.Three channels. Endless grooves. No complaints. Dance under the stars ’til midnight. \n🎈 Family fun for all ages→ Classic games & challenges→ Vintage pinball machines→ Water fun by the dock (if weather allows)→ Beer mug shuffleboard & cheese toss (!) \n🎟️ Entry = FreeJust walk in. No tickets\, no nonsense. \n📍 Kompaan Thuishaven – Saturnusstraat 55\, The Hague🕒 14:00 – 00:00 (kitchen until 22:00\, snacks until 16:00)
URL:https://kompaanbier.nl/event/mussels-malts-fest/
LOCATION:Kompaan Thuishaven & Brewery\, Saturnusstraat 55\, The Hague\, 2516AE\, Netherlands
CATEGORIES:Thuishaven
ATTACH;FMTTYPE=image/webp:https://kompaanbier.nl/wp-content/uploads/2025/08/Kompaan_mussels_malts_werkbestand-02-1.webp
END:VEVENT
BEGIN:VEVENT
DTSTART;TZID=Europe/Amsterdam:20250510T140000
DTEND;TZID=Europe/Amsterdam:20250511T020000
DTSTAMP:20260425T052547
CREATED:20250313T135749Z
LAST-MODIFIED:20250314T133331Z
UID:10004082-1746885600-1746928800@kompaanbier.nl
SUMMARY:B-KANT HAVEN
DESCRIPTION:Some days aren’t meant to be rushed. B-KANT HAVEN is one of them. \nThis is where sweet afternoons roll into golden evenings. The scent of barbecue drifts through the air and the sound of vinyl crackles alongside the rhythm of skaters carving lines. A cold beer in one hand\, your favorite record or clothing shop is selling the goods and the music flows effortlessly – spun by selectors who know what the moment needs. \nGood people\, fine tunes and the freedom to let the day unfold. Come for the market and music\, stay for the fire-lit conversations and trust the vibe to guide you into the night. \nLet’s enjoy spring in full swing! \nBeats • Brews • Bonfires  \n📅Saturday\, May 10\n📍Kompaan Thuishaven – Saturnusstraat 55\, The Hague\n⏰2 PM – 2 AM\n🎫FREE ENTRANCE BETWEEN 2PM – 9PM\n🎫CLICK HERE TO BUY TICKETS FOR CLUB NIGHT! 9PM – 2AM\n \nDAYTIME (2 PM – 9 PM) | Free Entrance\nSkate Contest by @sweatshopskatepark – Roll up & show your skills.\nVinyl\, Vintage & Art Market – Dig\, browse\, and discover.\nStreet Art Exhibition – Grit\, color\, and stories on the walls.\nBBQ & Bonfires – Fire up the grill\, grab a pint\, and relax. \nDJ Line-Up: \nRat Radio – @ratradio_\nNienquepasa & Naima – @nienquepasa @naimaduyser\nKoye – @koyetaylor_\nFriss – @friss.oke\nBouk Liúw & Bassie – @boukliuw @bassie.amplitude \nMarket: \nAmplitude Records – @amplitude_records_official\nOffbeat Records – @offbeat__records\nKunstroof – @kunstroof\nDe Winkol – @dewinkol\nZusjes Vintage Boetiek @zusjesvintageboetiek\nDisco Dip – @disco_dip_soft_serve \nStreet Art Exhibition by: \nNanne Boere – @nanneboere\nMichadebie – @michadebie\nZepp van der Spek – @zepps_signs \nNIGHTTIME (9 PM – 2 AM) | Club Night @ Kompaan Brewery | €10 Presale\nAs the sun dips\, we turn up the heat inside. Expect deep grooves\, high energy\, and an unforgettable dance floor. \nCurated by: @capiche.collectiv + @elastic.thehague\nHosted by: @kompaanbier \nPull up\, grab a pint\, and let the music take over. \n\nDJ Line-Up: \nOffbeat Records – @offbeat__records\nKennedy – @djkennedy\n\n\nCLICK HERE TO BUY TICKETS FOR CLUB NIGHT!\n\n\nArtwork by @sastro.creations
URL:https://kompaanbier.nl/event/b-kant-haven/
LOCATION:Kompaan Thuishaven & Brewery\, Saturnusstraat 55\, The Hague\, 2516AE\, Netherlands
CATEGORIES:Thuishaven
ATTACH;FMTTYPE=image/png:https://kompaanbier.nl/wp-content/uploads/2025/03/b-kant-haven_BANNER-WEBSITE-3-2.png
END:VEVENT
END:VCALENDAR